BEGIN:VCALENDAR
VERSION:2.0
PRODID:-//Töpferei Hans Holland - ECPv6.3.3.1//NONSGML v1.0//EN
CALSCALE:GREGORIAN
METHOD:PUBLISH
X-WR-CALNAME:Töpferei Hans Holland
X-ORIGINAL-URL:https://xn--tpferei-holland-8sb.de
X-WR-CALDESC:Veranstaltungen für Töpferei Hans Holland
REFRESH-INTERVAL;VALUE=DURATION:PT1H
X-Robots-Tag:noindex
X-PUBLISHED-TTL:PT1H
BEGIN:VTIMEZONE
TZID:UTC
BEGIN:STANDARD
TZOFFSETFROM:+0000
TZOFFSETTO:+0000
TZNAME:UTC
DTSTART:20190101T000000
END:STANDARD
END:VTIMEZONE
BEGIN:VEVENT
DTSTART;VALUE=DATE:20190720
DTEND;VALUE=DATE:20190722
DTSTAMP:20260421T130517
CREATED:20190406T155408Z
LAST-MODIFIED:20190406T160234Z
UID:168-1563580800-1563753599@xn--tpferei-holland-8sb.de
SUMMARY:Töpfermarkt Görlitz
DESCRIPTION:Schlesischer Tippelmarkt \nObermarkt\, Brüderstraße und Untermarkt in Görlitz \nGeöffnet 10.00- 18.00
URL:https://xn--tpferei-holland-8sb.de/event/toepfermarkt-goerlitz
END:VEVENT
BEGIN:VEVENT
DTSTART;VALUE=DATE:20190726
DTEND;VALUE=DATE:20190729
DTSTAMP:20260421T130517
CREATED:20190605T090534Z
LAST-MODIFIED:20190725T123803Z
UID:349-1564099200-1564358399@xn--tpferei-holland-8sb.de
SUMMARY:Hoffest in unserer Töpferei
DESCRIPTION:Wir laden Sie dieses Jahr anlässlich des 275. Firmenjubiläumszu uns in die Töpferei ein! \nEs erwarten Sie dieses Jahr viele tolle Überraschungen\, sowie Gastlichkeit und Gemütlichkeit in unserem Garten \nAusstellung zur Geschichte der Töpferei Holland und Töpferstadt Elstra\nEntenrennen\n– Samstag „offene Klasse“  -jeder bringt seine Ente mit\n– Sonntag „einheitliche gelbe KLasse“ um den Töpferpokal\n– Start jeweils 14.00\nLive-Musik mit Tanz Samstag ab 20.00\nKaffeklatsch mit Livemusik Sonntag Nachmittag \n  \nWerkstatt und Hof geöffnet: \nFreitag ab 18.00\nSamstag und Sonntag ab 13.00
URL:https://xn--tpferei-holland-8sb.de/event/hoffest-in-der-toepferei-2
LOCATION:Elstra\, Klosterstraße 15\, Elstra\, Sachsen\, 01920\, Germany
END:VEVENT
END:VCALENDAR