BEGIN:VCALENDAR
VERSION:2.0
PRODID:-//Töpferei Hans Holland - ECPv6.3.3.1//NONSGML v1.0//EN
CALSCALE:GREGORIAN
METHOD:PUBLISH
X-WR-CALNAME:Töpferei Hans Holland
X-ORIGINAL-URL:https://xn--tpferei-holland-8sb.de
X-WR-CALDESC:Veranstaltungen für Töpferei Hans Holland
REFRESH-INTERVAL;VALUE=DURATION:PT1H
X-Robots-Tag:noindex
X-PUBLISHED-TTL:PT1H
BEGIN:VTIMEZONE
TZID:UTC
BEGIN:STANDARD
TZOFFSETFROM:+0000
TZOFFSETTO:+0000
TZNAME:UTC
DTSTART:20190101T000000
END:STANDARD
END:VTIMEZONE
BEGIN:VEVENT
DTSTART;VALUE=DATE:20190504
DTEND;VALUE=DATE:20190506
DTSTAMP:20260423T104847
CREATED:20190406T151547Z
LAST-MODIFIED:20190406T151547Z
UID:150-1556928000-1557100799@xn--tpferei-holland-8sb.de
SUMMARY:Töpfermarkt Crimmitschau
DESCRIPTION:Westsächsischer Töpfermarkt in Crimmitschau \nim Parkteichgelände Gablenz \nGeöffnet von 10.00-18.00
URL:https://xn--tpferei-holland-8sb.de/event/toepfermarkt-crimmitschau
END:VEVENT
BEGIN:VEVENT
DTSTART;VALUE=DATE:20190511
DTEND;VALUE=DATE:20190513
DTSTAMP:20260423T104847
CREATED:20190406T152227Z
LAST-MODIFIED:20190406T152304Z
UID:154-1557532800-1557705599@xn--tpferei-holland-8sb.de
SUMMARY:Töpfermarkt Elstra
DESCRIPTION:Töpfermarkt im Elstraer Stadtpark \nGeöffnet 10.00- 18.00
URL:https://xn--tpferei-holland-8sb.de/event/toepfermarkt-elstra-2
END:VEVENT
BEGIN:VEVENT
DTSTART;VALUE=DATE:20190518
DTEND;VALUE=DATE:20190520
DTSTAMP:20260423T104847
CREATED:20190406T153150Z
LAST-MODIFIED:20190406T153150Z
UID:156-1558137600-1558310399@xn--tpferei-holland-8sb.de
SUMMARY:Töpferkunst-Markt Berlin
DESCRIPTION:Keramik und Kunstmarkt in der Späth`schen Baumschule Berlin \nSpäthstraße 80/81 \nGeöffnet 10.00- 18.00
URL:https://xn--tpferei-holland-8sb.de/event/toepferkunst-markt-berlin
END:VEVENT
END:VCALENDAR