BEGIN:VCALENDAR
VERSION:2.0
PRODID:-//Töpferei Hans Holland - ECPv6.3.3.1//NONSGML v1.0//EN
CALSCALE:GREGORIAN
METHOD:PUBLISH
X-ORIGINAL-URL:https://xn--tpferei-holland-8sb.de
X-WR-CALDESC:Veranstaltungen für Töpferei Hans Holland
REFRESH-INTERVAL;VALUE=DURATION:PT1H
X-Robots-Tag:noindex
X-PUBLISHED-TTL:PT1H
BEGIN:VTIMEZONE
TZID:UTC
BEGIN:STANDARD
TZOFFSETFROM:+0000
TZOFFSETTO:+0000
TZNAME:UTC
DTSTART:20190101T000000
END:STANDARD
END:VTIMEZONE
BEGIN:VEVENT
DTSTART;VALUE=DATE:20190817
DTEND;VALUE=DATE:20190819
DTSTAMP:20260421T143401
CREATED:20190406T161816Z
LAST-MODIFIED:20190406T161816Z
UID:180-1566000000-1566172799@xn--tpferei-holland-8sb.de
SUMMARY:Töpfermarkt Auerbach
DESCRIPTION:auf dem Altmarkt in Auerbach/ Vogtland \nGeöffnet 10.00- 18.00
URL:https://xn--tpferei-holland-8sb.de/event/toepfermarkt-auerbach
END:VEVENT
END:VCALENDAR